Workbook
Name 推計パターン名: #REF!
Name 推計パターン名: #REF!
Name 推計パターン名: #REF!
Name 推計パターン名: #REF!
Name 保険者番号: #REF!
Name 保険者番号: #REF!
Name 保険者番号: #REF!
Name 保険者番号: #REF!
Name 保険者名: #REF!
Name 保険者名: #REF!
Name 保険者名: #REF!
Name 保険者名: #REF!

Sheet ※入力なし　様式10（地域包括支援センター運営総括表）
B1: 様式１０
B2: ○地域包括支援センター運営に関する収支計画 （総括表） | H2: 【 | J2: 圏域】 | Q2: 【法人名】
B4: 収入科目・市委託料 | I4: 1年目 | O4: 2年目 | U4: 3年目
C5: 包括的支援事業 | I5: ='様式10（包括的支援事業）'!I5 -> 0 | J5: 包括的支援事業 | O5: ='様式10（包括的支援事業）'!O5 -> 0 | P5: 包括的支援事業 | U5: ='様式10（包括的支援事業）'!U5 -> 0
C6: 認知症地域支援・ケア向上事業 | I6: ='様式10 (認知症地域支援・ケア向上事業)'!I6 -> 0 | J6: 認知症地域支援・ケア向上事業 | O6: ='様式10 (認知症地域支援・ケア向上事業)'!O6 -> 0 | P6: 認知症地域支援・ケア向上事業 | U6: ='様式10 (認知症地域支援・ケア向上事業)'!U6 -> 0
C7: 介護予防把握事業 | I7: ='様式10 (介護予防把握事業）'!I7 -> 0 | J7: 介護予防把握事業 | O7: ='様式10 (介護予防把握事業）'!O7 -> 0 | P7: 介護予防把握事業 | U7: ='様式10 (介護予防把握事業）'!U7 -> 0
E8: 合計 | I8: =SUM(I5:I7) -> 0 | J8: ※端数処理により若干の誤差は生じます | K8: 合計 | O8: =SUM(O5:O7) -> 0 | P8: ※端数処理により若干の誤差は生じます | Q8: 合計 | U8: =SUM(U5:U7) -> 0 | V8: ※端数処理により若干の誤差は生じます
B12: 支出科目 | E12: 単価 | G12: 数量 | H12: 単位 | I12: 1年目 | J12: 備考 | K12: 単価 | M12: 数量 | N12: 単位 | O12: 2年目 | P12: 備考 | Q12: 単価 | S12: 数量 | T12: 単位 | U12: 3年目 | V12: 備考
C13: 人件費 | E13: 小計① | I13: =I14+I15+I16+I17+I18+I19+I20+I21+I22 -> 0 | K13: 小計① | O13: =O14+O15+O16+O17+O18+O19+O20+O21+O22 -> 0 | Q13: 小計① | U13: =U14+U15+U16+U17+U18+U19+U20+U21+U22 -> 0
C14: 1 | D14: ３職種（保健師等） 給与等 | F14: × | H14: 人 | I14: ='様式10（包括的支援事業）'!I14 -> 0 | J14: 別紙、事業ごとの収支計画を参照 | L14: × | N14: 人 | O14: ='様式10（包括的支援事業）'!O14 -> 0 | P14: 別紙、事業ごとの収支計画を参照 | R14: × | T14: 人 | U14: ='様式10（包括的支援事業）'!U14 -> 0 | V14: 別紙、事業ごとの収支計画を参照
C15: 2 | D15: ３職種（社会福祉士等） 給与等 | F15: × | H15: 人 | I15: ='様式10（包括的支援事業）'!I15 -> 0 | L15: × | N15: 人 | O15: ='様式10（包括的支援事業）'!O15 -> 0 | R15: × | T15: 人 | U15: ='様式10（包括的支援事業）'!U15 -> 0
C16: 3 | D16: ３職種（主任介護支援専門員等） 給与等 | F16: × | H16: 人 | I16: ='様式10（包括的支援事業）'!I16 -> 0 | L16: × | N16: 人 | O16: ='様式10（包括的支援事業）'!O16 -> 0 | R16: × | T16: 人 | U16: ='様式10（包括的支援事業）'!U16 -> 0
C17: 4 | D17: 介護予防ケアマネジメント担当者 給与等 | F17: × | H17: 人 | I17: ='様式10（包括的支援事業）'!I17 -> 0 | L17: × | N17: 人 | O17: ='様式10（包括的支援事業）'!O17 -> 0 | R17: × | T17: 人 | U17: ='様式10（包括的支援事業）'!U17 -> 0
C18: 5 | D18: 事務員 給与等 | F18: × | H18: 人 | I18: ='様式10（包括的支援事業）'!I18 -> 0 | L18: × | N18: 人 | O18: ='様式10（包括的支援事業）'!O18 -> 0 | R18: × | T18: 人 | U18: ='様式10（包括的支援事業）'!U18 -> 0
C19: 6 | D19: 認知症地域支援推進員 給与等 | F19: × | H19: 人 | I19: ='様式10 (認知症地域支援・ケア向上事業)'!I17 -> 0 | L19: × | N19: 人 | O19: ='様式10 (認知症地域支援・ケア向上事業)'!O17 -> 0 | R19: × | T19: 人 | U19: ='様式10 (認知症地域支援・ケア向上事業)'!U17 -> 0
C20: 7 | D20: 介護予防推進員 給与等 | F20: × | H20: 人 | I20: ='様式10 (介護予防把握事業）'!I18 -> 0 | L20: × | N20: 人 | O20: ='様式10 (介護予防把握事業）'!O18 -> 0 | R20: × | T20: 人 | U20: ='様式10 (介護予防把握事業）'!U18 -> 0
C21: 8 | D21: 法定福利費 （健康保険料、厚生年金保険料、介護保険料、雇用保険料、労災保険、こども・子育て拠出金） | F21: × | H21: 人 | I21: ='様式10（包括的支援事業）'!I21+'様式10 (認知症地域支援・ケア向上事業)'!I19+'様式10 (介護予防把握事業）'!I19 -> 0 | L21: × | N21: 人 | O21: ='様式10（包括的支援事業）'!O21+'様式10 (認知症地域支援・ケア向上事業)'!O19+'様式10 (介護予防把握事業）'!O19 -> 0 | R21: × | T21: 人 | U21: ='様式10（包括的支援事業）'!U21+'様式10 (認知症地域支援・ケア向上事業)'!U19+'様式10 (介護予防把握事業）'!U19 -> 0
C22: 9 | D22: 手当 | F22: × | H22: 人 | I22: ='様式10（包括的支援事業）'!I22+'様式10 (認知症地域支援・ケア向上事業)'!I20+'様式10 (介護予防把握事業）'!I20 -> 0 | L22: × | N22: 人 | O22: ='様式10（包括的支援事業）'!O22+'様式10 (認知症地域支援・ケア向上事業)'!O20+'様式10 (介護予防把握事業）'!O20 -> 0 | R22: × | T22: 人 | U22: ='様式10（包括的支援事業）'!U22+'様式10 (認知症地域支援・ケア向上事業)'!U20+'様式10 (介護予防把握事業）'!U20 -> 0
C23: 事務費 | E23: 小計② | I23: =SUM(I24:I34) -> 0 | K23: 小計② | O23: =SUM(O24:O34) -> 0 | Q23: 小計② | U23: =SUM(U24:U34) -> 0
C24: 1 | D24: 消耗品費 | F24: × | H24: ＝ | I24: ='様式10（包括的支援事業）'!I24+'様式10 (認知症地域支援・ケア向上事業)'!I22+'様式10 (介護予防把握事業）'!I22 -> 0 | J24: 別紙、事業ごとの収支計画を参照 | L24: × | N24: ＝ | O24: ='様式10（包括的支援事業）'!O24+'様式10 (認知症地域支援・ケア向上事業)'!O22+'様式10 (介護予防把握事業）'!O22 -> 0 | P24: 別紙、事業ごとの収支計画を参照 | R24: × | T24: ＝ | U24: ='様式10（包括的支援事業）'!U24+'様式10 (認知症地域支援・ケア向上事業)'!U22+'様式10 (介護予防把握事業）'!U22 -> 0 | V24: 別紙、事業ごとの収支計画を参照
C25: 2 | D25: 食糧費 | F25: × | H25: ＝ | I25: ='様式10（包括的支援事業）'!I25+'様式10 (認知症地域支援・ケア向上事業)'!I23+'様式10 (介護予防把握事業）'!I23 -> 0 | L25: × | N25: ＝ | O25: ='様式10（包括的支援事業）'!O25+'様式10 (認知症地域支援・ケア向上事業)'!O23+'様式10 (介護予防把握事業）'!O23 -> 0 | R25: × | T25: ＝ | U25: ='様式10（包括的支援事業）'!U25+'様式10 (認知症地域支援・ケア向上事業)'!U23+'様式10 (介護予防把握事業）'!U23 -> 0
C26: 3 | D26: 通信運搬費（郵便切手など） | F26: × | H26: ＝ | I26: ='様式10（包括的支援事業）'!I26+'様式10 (認知症地域支援・ケア向上事業)'!I24+'様式10 (介護予防把握事業）'!I24 -> 0 | L26: × | N26: ＝ | O26: ='様式10（包括的支援事業）'!O26+'様式10 (認知症地域支援・ケア向上事業)'!O24+'様式10 (介護予防把握事業）'!O24 -> 0 | R26: × | T26: ＝ | U26: ='様式10（包括的支援事業）'!U26+'様式10 (認知症地域支援・ケア向上事業)'!U24+'様式10 (介護予防把握事業）'!U24 -> 0
C27: 4 | D27: 印刷製本費 | F27: × | H27: ＝ | I27: ='様式10（包括的支援事業）'!I27+'様式10 (認知症地域支援・ケア向上事業)'!I25+'様式10 (介護予防把握事業）'!I25 -> 0 | L27: × | N27: ＝ | O27: ='様式10（包括的支援事業）'!O27+'様式10 (認知症地域支援・ケア向上事業)'!O25+'様式10 (介護予防把握事業）'!O25 -> 0 | R27: × | T27: ＝ | U27: ='様式10（包括的支援事業）'!U27+'様式10 (認知症地域支援・ケア向上事業)'!U25+'様式10 (介護予防把握事業）'!U25 -> 0
C28: 5 | D28: 情報通信費（固定電話料金、携帯料金など） | F28: × | H28: ＝ | I28: ='様式10（包括的支援事業）'!I28+'様式10 (認知症地域支援・ケア向上事業)'!I26+'様式10 (介護予防把握事業）'!I26 -> 0 | L28: × | N28: ＝ | O28: ='様式10（包括的支援事業）'!O28+'様式10 (認知症地域支援・ケア向上事業)'!O26+'様式10 (介護予防把握事業）'!O26 -> 0 | R28: × | T28: ＝ | U28: ='様式10（包括的支援事業）'!U28+'様式10 (認知症地域支援・ケア向上事業)'!U26+'様式10 (介護予防把握事業）'!U26 -> 0
C29: 6 | D29: 使用料及び賃借料（施設利用料など） | F29: × | H29: ＝ | I29: ='様式10（包括的支援事業）'!I29+'様式10 (認知症地域支援・ケア向上事業)'!I27+'様式10 (介護予防把握事業）'!I27 -> 0 | L29: × | N29: ＝ | O29: ='様式10（包括的支援事業）'!O29+'様式10 (認知症地域支援・ケア向上事業)'!O27+'様式10 (介護予防把握事業）'!O27 -> 0 | R29: × | T29: ＝ | U29: ='様式10（包括的支援事業）'!U29+'様式10 (認知症地域支援・ケア向上事業)'!U27+'様式10 (介護予防把握事業）'!U27 -> 0
C30: 7 | D30: 報償費 | F30: × | H30: ＝ | I30: ='様式10（包括的支援事業）'!I30+'様式10 (認知症地域支援・ケア向上事業)'!I28+'様式10 (介護予防把握事業）'!I28 -> 0 | L30: × | N30: ＝ | O30: ='様式10（包括的支援事業）'!O30+'様式10 (認知症地域支援・ケア向上事業)'!O28+'様式10 (介護予防把握事業）'!O28 -> 0 | R30: × | T30: ＝ | U30: ='様式10（包括的支援事業）'!U30+'様式10 (認知症地域支援・ケア向上事業)'!U28+'様式10 (介護予防把握事業）'!U28 -> 0
C31: 8 | D31: 負担金（研修参加費） | F31: × | H31: ＝ | I31: ='様式10（包括的支援事業）'!I31+'様式10 (認知症地域支援・ケア向上事業)'!I29+'様式10 (介護予防把握事業）'!I29 -> 0 | L31: × | N31: ＝ | O31: ='様式10（包括的支援事業）'!O31+'様式10 (認知症地域支援・ケア向上事業)'!O29+'様式10 (介護予防把握事業）'!O29 -> 0 | R31: × | T31: ＝ | U31: ='様式10（包括的支援事業）'!U31+'様式10 (認知症地域支援・ケア向上事業)'!U29+'様式10 (介護予防把握事業）'!U29 -> 0
C32: 9 | D32: 旅費 | F32: × | H32: ＝ | I32: ='様式10（包括的支援事業）'!I32+'様式10 (認知症地域支援・ケア向上事業)'!I30+'様式10 (介護予防把握事業）'!I30 -> 0 | L32: × | N32: ＝ | O32: ='様式10（包括的支援事業）'!O32+'様式10 (認知症地域支援・ケア向上事業)'!O30+'様式10 (介護予防把握事業）'!O30 -> 0 | R32: × | T32: ＝ | U32: ='様式10（包括的支援事業）'!U32+'様式10 (認知症地域支援・ケア向上事業)'!U30+'様式10 (介護予防把握事業）'!U30 -> 0
C33: 10 | D33: ○○○ | F33: × | H33: ＝ | I33: ='様式10（包括的支援事業）'!I33+'様式10 (認知症地域支援・ケア向上事業)'!I31+'様式10 (介護予防把握事業）'!I31 -> 0 | L33: × | N33: ＝ | O33: ='様式10（包括的支援事業）'!O33+'様式10 (認知症地域支援・ケア向上事業)'!O31+'様式10 (介護予防把握事業）'!O31 -> 0 | R33: × | T33: ＝ | U33: ='様式10（包括的支援事業）'!U33+'様式10 (認知症地域支援・ケア向上事業)'!U31+'様式10 (介護予防把握事業）'!U31 -> 0
C34: 11 | F34: × | H34: ＝ | I34: ='様式10（包括的支援事業）'!I34+'様式10 (認知症地域支援・ケア向上事業)'!I32+'様式10 (介護予防把握事業）'!I32 -> 0 | L34: × | N34: ＝ | O34: ='様式10（包括的支援事業）'!O34+'様式10 (認知症地域支援・ケア向上事業)'!O32+'様式10 (介護予防把握事業）'!O32 -> 0 | R34: × | T34: ＝ | U34: ='様式10（包括的支援事業）'!U34+'様式10 (認知症地域支援・ケア向上事業)'!U32+'様式10 (介護予防把握事業）'!U32 -> 0
C35: 管理費 | E35: 小計 | I35: =SUM(I36:I49) -> 0 | K35: 小計 | O35: =SUM(O36:O49) -> 0 | Q35: 小計 | U35: =SUM(U36:U49) -> 0
C36: 1 | D36: 事務所賃料（借上げ経費） | F36: × | H36: ＝ | I36: ='様式10（包括的支援事業）'!I36 -> 0 | L36: × | N36: ＝ | O36: ='様式10（包括的支援事業）'!O36 -> 0 | R36: × | T36: ＝ | U36: ='様式10（包括的支援事業）'!U36 -> 0
C37: 2 | D37: 光熱水道費 | F37: × | H37: ＝ | I37: ='様式10（包括的支援事業）'!I37 -> 0 | L37: × | N37: ＝ | O37: ='様式10（包括的支援事業）'!O37 -> 0 | R37: × | T37: ＝ | U37: ='様式10（包括的支援事業）'!U37 -> 0
C38: 3 | D38: 駐車場賃料（包括専用車両のみ） | F38: × | H38: ＝ | I38: ='様式10（包括的支援事業）'!I38 -> 0 | L38: × | N38: ＝ | O38: ='様式10（包括的支援事業）'!O38 -> 0 | R38: × | T38: ＝ | U38: ='様式10（包括的支援事業）'!U38 -> 0
C39: 4 | D39: 車両リース代 | F39: × | H39: ＝ | I39: ='様式10（包括的支援事業）'!I39 -> 0 | L39: × | N39: ＝ | O39: ='様式10（包括的支援事業）'!O39 -> 0 | R39: × | T39: ＝ | U39: ='様式10（包括的支援事業）'!U39 -> 0
C40: 5 | D40: 燃料費 | F40: × | H40: ＝ | I40: ='様式10（包括的支援事業）'!I40 -> 0 | L40: × | N40: ＝ | O40: ='様式10（包括的支援事業）'!O40 -> 0 | R40: × | T40: ＝ | U40: ='様式10（包括的支援事業）'!U40 -> 0
C41: 6 | D41: 電話回線費 | F41: × | H41: ＝ | I41: ='様式10（包括的支援事業）'!I41 -> 0 | L41: × | N41: ＝ | O41: ='様式10（包括的支援事業）'!O41 -> 0 | R41: × | T41: ＝ | U41: ='様式10（包括的支援事業）'!U41 -> 0
C42: 7 | D42: 情報通信費（インターネット利用料） | F42: × | H42: ＝ | I42: ='様式10（包括的支援事業）'!I42 -> 0 | L42: × | N42: ＝ | O42: ='様式10（包括的支援事業）'!O42 -> 0 | R42: × | T42: ＝ | U42: ='様式10（包括的支援事業）'!U42 -> 0
C43: 8 | D43: ＰＣリース代 | F43: × | H43: ＝ | I43: ='様式10（包括的支援事業）'!I43 -> 0 | L43: × | N43: ＝ | O43: ='様式10（包括的支援事業）'!O43 -> 0 | R43: × | T43: ＝ | U43: ='様式10（包括的支援事業）'!U43 -> 0
C44: 9 | D44: 保険料 | F44: × | H44: ＝ | I44: ='様式10（包括的支援事業）'!I44 -> 0 | L44: × | N44: ＝ | O44: ='様式10（包括的支援事業）'!O44 -> 0 | R44: × | T44: ＝ | U44: ='様式10（包括的支援事業）'!U44 -> 0
...

Sheet 様式10（包括的支援事業）
B1: 様式１０
B2: ○地域包括支援センター運営に関する収支計画 （包括的支援事業） | H2: 【 | J2: 圏域】 | Q2: 【法人名】
B4: 収入科目・市委託料 | I4: 1年目 | O4: 2年目 | U4: 3年目
C5: 包括的支援事業 | J5: 包括的支援事業 | P5: 包括的支援事業
C6: 認知症地域支援・ケア向上事業 | J6: 認知症地域支援・ケア向上事業 | P6: 認知症地域支援・ケア向上事業
C7: 介護予防把握事業 | J7: 一般介護予防事業 | P7: 一般介護予防事業
E8: 合計 | I8: =IF(E55=I5,I5,"エラー") -> 0 | K8: 合計 | O8: =IF(K55=O5,O5,"エラー") -> 0 | Q8: 合計 | U8: =IF(Q55=U5,U5,"エラー") -> 0
C10: 入力箇所は、黄色いセルのみ！
B12: 支出科目 | E12: 単価 | G12: 数量 | H12: 単位 | I12: 1年目 | J12: 備考 | K12: 単価 | M12: 数量 | N12: 単位 | O12: 2年目 | P12: 備考 | Q12: 単価 | S12: 数量 | T12: 単位 | U12: 3年目 | V12: 備考
C13: 人件費 ※設定金額の目安：20,300,000円 | E13: 小計① | I13: =I14+I15+I16+I17+I18+I21+I22 -> 0 | K13: 小計① | O13: =O14+O15+O16+O17+O18+O21+O22 -> 0 | Q13: 小計① | U13: =U14+U15+U16+U17+U18+U21+U22 -> 0
C14: 1 | D14: ３職種（保健師等） 給与等 ※給与及び賞与を含む金額を記載すること | F14: × | H14: ＝ | I14: =E14*G14 -> 0 | J14: 給与：4月～12月〇〇〇円 1月～3月〇〇〇円 賞与2回：6月〇〇〇円、12月〇〇〇円 | L14: × | N14: ＝ | O14: =K14*M14 -> 0 | P14: 給与：4月～12月〇〇〇円 1月～3月〇〇〇円 賞与2回：6月〇〇〇円、12月〇〇〇円 | R14: × | T14: ＝ | U14: =Q14*S14 -> 0 | V14: 給与：4月～12月〇〇〇円 1月～3月〇〇〇円 賞与2回：6月〇〇〇円、12月〇〇〇円
C15: 2 | D15: ３職種（社会福祉士等） 給与等 ※給与及び賞与を含む金額を記載すること | F15: × | H15: ＝ | I15: =E15*G15 -> 0 | L15: × | N15: ＝ | O15: =K15*M15 -> 0 | R15: × | T15: ＝ | U15: =Q15*S15 -> 0
C16: 3 | D16: ３職種（主任介護支援専門員等） 給与等 ※給与及び賞与を含む金額を記載すること | F16: × | H16: ＝ | I16: =E16*G16 -> 0 | L16: × | N16: ＝ | O16: =K16*M16 -> 0 | R16: × | T16: ＝ | U16: =Q16*S16 -> 0
C17: 4 | D17: 介護予防ケアマネジメント担当者 給与等 ※給与及び賞与を含む金額を記載すること | F17: × | H17: ＝ | I17: =E17*G17 -> 0 | L17: × | N17: ＝ | O17: =K17*M17 -> 0 | R17: × | T17: ＝ | U17: =Q17*S17 -> 0
C18: 5 | D18: 事務員 給与等 ※給与及び賞与を含む金額を記載すること | F18: × | H18: ＝ | I18: =E18*G18 -> 0 | L18: × | N18: ＝ | O18: =K18*M18 -> 0 | R18: × | T18: ＝ | U18: =Q18*S18 -> 0
D19: 認知症地域支援推進員 | F19: × | H19: ＝ | I19: =E19*G19 -> 0 | L19: × | N19: ＝ | O19: =K19*M19 -> 0 | R19: × | T19: ＝ | U19: =Q19*S19 -> 0
D20: 介護予防推進員 | F20: × | H20: ＝ | I20: =E20*G20 -> 0 | L20: × | N20: ＝ | O20: =K20*M20 -> 0 | R20: × | T20: ＝ | U20: =Q20*S20 -> 0
C21: 6 | D21: 法定福利費 （健康保険料、厚生年金保険料、介護保険料、雇用保険料、労災保険、こども・子育て拠出金） | F21: × | H21: ＝ | I21: =E21*G21 -> 0 | L21: × | N21: ＝ | O21: =K21*M21 -> 0 | R21: × | T21: ＝ | U21: =Q21*S21 -> 0
C22: 7 | D22: 手当 | F22: × | H22: ＝ | I22: =E22*G22 -> 0 | J22: 通勤手当○○円、職務手当○○円、資格手当○○円 | L22: × | N22: ＝ | O22: =K22*M22 -> 0 | P22: 通勤手当○○円、職務手当○○円、資格手当○○円 | R22: × | T22: ＝ | U22: =Q22*S22 -> 0 | V22: 通勤手当○○円、職務手当○○円、資格手当○○円
C23: 事務費 ※設定金額の目安：1,000,000円 | E23: 小計② | I23: =SUM(I24:I34) -> 0 | K23: 小計② | O23: =SUM(O24:O34) -> 0 | Q23: 小計② | U23: =SUM(U24:U34) -> 0
C24: 1 | D24: 消耗品費 | F24: × | H24: ＝ | I24: =E24*G24 -> 0 | L24: × | N24: ＝ | O24: =K24*M24 -> 0 | R24: × | T24: ＝ | U24: =Q24*S24 -> 0
C25: 2 | D25: 食糧費 | F25: × | H25: ＝ | I25: =E25*G25 -> 0 | L25: × | N25: ＝ | O25: =K25*M25 -> 0 | R25: × | T25: ＝ | U25: =Q25*S25 -> 0
C26: 3 | D26: 通信運搬費（郵便切手など） | F26: × | H26: ＝ | I26: =E26*G26 -> 0 | L26: × | N26: ＝ | O26: =K26*M26 -> 0 | R26: × | T26: ＝ | U26: =Q26*S26 -> 0
C27: 4 | D27: 印刷製本費 | F27: × | H27: ＝ | I27: =E27*G27 -> 0 | L27: × | N27: ＝ | O27: =K27*M27 -> 0 | R27: × | T27: ＝ | U27: =Q27*S27 -> 0
C28: 5 | D28: 情報通信費（固定電話料金、携帯料金など） | F28: × | H28: ＝ | I28: =E28*G28 -> 0 | L28: × | N28: ＝ | O28: =K28*M28 -> 0 | R28: × | T28: ＝ | U28: =Q28*S28 -> 0
C29: 6 | D29: 使用料及び賃借料（施設利用料など） | F29: × | H29: ＝ | I29: =E29*G29 -> 0 | L29: × | N29: ＝ | O29: =K29*M29 -> 0 | R29: × | T29: ＝ | U29: =Q29*S29 -> 0
C30: 7 | D30: 報償費 | F30: × | H30: ＝ | I30: =E30*G30 -> 0 | L30: × | N30: ＝ | O30: =K30*M30 -> 0 | R30: × | T30: ＝ | U30: =Q30*S30 -> 0
C31: 8 | D31: 負担金（研修参加費） | F31: × | H31: ＝ | I31: =E31*G31 -> 0 | L31: × | N31: ＝ | O31: =K31*M31 -> 0 | R31: × | T31: ＝ | U31: =Q31*S31 -> 0
C32: 9 | D32: 旅費 | F32: × | H32: ＝ | I32: =E32*G32 -> 0 | L32: × | N32: ＝ | O32: =K32*M32 -> 0 | R32: × | T32: ＝ | U32: =Q32*S32 -> 0
C33: 10 | F33: × | H33: ＝ | I33: =E33*G33 -> 0 | L33: × | N33: ＝ | O33: =K33*M33 -> 0 | R33: × | T33: ＝ | U33: =Q33*S33 -> 0
C34: 11 | F34: × | H34: ＝ | I34: =E34*G34 -> 0 | L34: × | N34: ＝ | O34: =K34*M34 -> 0 | R34: × | T34: ＝ | U34: =Q34*S34 -> 0
C35: 管理費 ※設定金額の目安：4,000,000円 | E35: 小計 | I35: =SUM(I36:I49) -> 0 | K35: 小計 | O35: =SUM(O36:O49) -> 0 | Q35: 小計 | U35: =SUM(U36:U49) -> 0
C36: 1 | D36: 事務所賃料（借上げ経費） | F36: × | H36: ＝ | I36: =E36*G36 -> 0 | L36: × | N36: ＝ | O36: =K36*M36 -> 0 | R36: × | T36: ＝ | U36: =Q36*S36 -> 0
C37: 2 | D37: 光熱水道費 | F37: × | H37: ＝ | I37: =E37*G37 -> 0 | L37: × | N37: ＝ | O37: =K37*M37 -> 0 | R37: × | T37: ＝ | U37: =Q37*S37 -> 0
C38: 3 | D38: 駐車場賃料（包括専用車両のみ） | F38: × | H38: ＝ | I38: =E38*G38 -> 0 | L38: × | N38: ＝ | O38: =K38*M38 -> 0 | R38: × | T38: ＝ | U38: =Q38*S38 -> 0
C39: 4 | D39: 車両リース代 | F39: × | H39: ＝ | I39: =E39*G39 -> 0 | L39: × | N39: ＝ | O39: =K39*M39 -> 0 | R39: × | T39: ＝ | U39: =Q39*S39 -> 0
C40: 5 | D40: 燃料費 | F40: × | H40: ＝ | I40: =E40*G40 -> 0 | L40: × | N40: ＝ | O40: =K40*M40 -> 0 | R40: × | T40: ＝ | U40: =Q40*S40 -> 0
C41: 6 | D41: 電話回線費 | F41: × | H41: ＝ | I41: =E41*G41 -> 0 | L41: × | N41: ＝ | O41: =K41*M41 -> 0 | R41: × | T41: ＝ | U41: =Q41*S41 -> 0
C42: 7 | D42: 情報通信費（インターネット利用料） | F42: × | H42: ＝ | I42: =E42*G42 -> 0 | L42: × | N42: ＝ | O42: =K42*M42 -> 0 | R42: × | T42: ＝ | U42: =Q42*S42 -> 0
C43: 8 | D43: ＰＣリース代 | F43: × | H43: ＝ | I43: =E43*G43 -> 0 | L43: × | N43: ＝ | O43: =K43*M43 -> 0 | R43: × | T43: ＝ | U43: =Q43*S43 -> 0
...

Sheet 様式10 (認知症地域支援・ケア向上事業)
B1: 様式１０
B2: ○地域包括支援センター運営に関する収支計画 （認知症地域支援・ケア向上事業） | H2: 【 | J2: 圏域】 | Q2: 【法人名】
B4: 収入科目・市委託料 | I4: 1年目 | O4: 2年目 | U4: 3年目
C5: 包括的支援事業 | J5: 包括的支援事業 | P5: 包括的支援事業
C6: 認知症地域支援・ケア向上事業 | J6: 認知症地域支援・ケア向上事業 | P6: 認知症地域支援・ケア向上事業
C7: 介護予防把握事業 | J7: 一般介護予防事業 | P7: 一般介護予防事業
E8: 合計 | I8: =IF(E38=I6,I6,"エラー") -> 0 | K8: 合計 | O8: =IF(K38=O6,O6,"エラー") -> 0 | Q8: 合計 | U8: =IF(Q38=U6,U6,"エラー") -> 0
C10: 入力箇所は、黄色いセルのみ！
B12: 支出科目 | E12: 単価 | G12: 数量 | H12: 単位 | I12: 1年目 | J12: 備考 | K12: 単価 | M12: 数量 | N12: 単位 | O12: 2年目 | P12: 備考 | Q12: 単価 | S12: 数量 | T12: 単位 | U12: 3年目 | V12: 備考
C13: 人件費 ※設定金額の目安：4,600,000円 | E13: 小計① | I13: =I17+I19+I20 -> 0 | K13: 小計① | O13: =O17+O19+O20 -> 0 | Q13: 小計① | U13: =U17+U19+U20 -> 0
C14: 1 | D14: ３職種（保健師等、社福士等、主任介護支援専門員） | F14: × | H14: ＝ | I14: =E14*G14 -> 0 | L14: × | N14: ＝ | O14: =K14*M14 -> 0 | R14: × | T14: ＝ | U14: =Q14*S14 -> 0
C15: 2 | D15: 介護予防ケアマネジメント担当者 | F15: × | H15: ＝ | I15: =E15*G15 -> 0 | L15: × | N15: ＝ | O15: =K15*M15 -> 0 | R15: × | T15: ＝ | U15: =Q15*S15 -> 0
C16: 3 | D16: 事務員 | F16: × | H16: ＝ | I16: =E16*G16 -> 0 | L16: × | N16: ＝ | O16: =K16*M16 -> 0 | R16: × | T16: ＝ | U16: =Q16*S16 -> 0
C17: 4 | D17: 認知症地域支援推進員 給与等 ※給与及び賞与を含む金額を記載すること | F17: × | H17: ＝ | I17: =E17*G17 -> 0 | J17: 給与：4月～12月〇〇〇円、1月～3月〇〇〇円 賞与2回：6月〇〇〇円、12月〇〇〇円 | L17: × | N17: ＝ | O17: =K17*M17 -> 0 | P17: 給与：4月～12月〇〇〇円、1月～3月〇〇〇円 賞与2回：6月〇〇〇円、12月〇〇〇円 | R17: × | T17: ＝ | U17: =Q17*S17 -> 0 | V17: 給与：4月～12月〇〇〇円、1月～3月〇〇〇円 賞与2回：6月〇〇〇円、12月〇〇〇円
C18: 5 | D18: 介護予防推進員 | F18: × | H18: ＝ | I18: =E18*G18 -> 0 | L18: × | N18: ＝ | O18: =K18*M18 -> 0 | R18: × | T18: ＝ | U18: =Q18*S18 -> 0
C19: 6 | D19: 法定福利費 （健康保険料、厚生年金保険料、介護保険料、雇用保険料、労災保険、こども・子育て拠出金） | F19: × | H19: ＝ | I19: =E19*G19 -> 0 | L19: × | N19: ＝ | O19: =K19*M19 -> 0 | R19: × | T19: ＝ | U19: =Q19*S19 -> 0
C20: 7 | D20: 手当 | F20: × | H20: ＝ | I20: =E20*G20 -> 0 | J20: 通勤手当○○円、職務手当○○円、資格手当○○円 | L20: × | N20: ＝ | O20: =K20*M20 -> 0 | P20: 通勤手当○○円、職務手当○○円、資格手当○○円 | R20: × | T20: ＝ | U20: =Q20*S20 -> 0 | V20: 通勤手当○○円、職務手当○○円、資格手当○○円
C21: 事務費 ※設定金額の目安：100,000円 | E21: 小計② | I21: =SUM(I22:I32) -> 0 | K21: 小計② | O21: =SUM(O22:O32) -> 0 | Q21: 3 | U21: =SUM(U22:U32) -> 0
C22: 1 | D22: 消耗品費 | F22: × | H22: ＝ | I22: =E22*G22 -> 0 | L22: × | N22: ＝ | O22: =K22*M22 -> 0 | R22: × | T22: ＝ | U22: =Q22*S22 -> 0
C23: 2 | D23: 食糧費 | F23: × | H23: ＝ | I23: =E23*G23 -> 0 | L23: × | N23: ＝ | O23: =K23*M23 -> 0 | R23: × | T23: ＝ | U23: =Q23*S23 -> 0
C24: 3 | D24: 通信運搬費（郵便切手など） | F24: × | H24: ＝ | I24: =E24*G24 -> 0 | L24: × | N24: ＝ | O24: =K24*M24 -> 0 | R24: × | T24: ＝ | U24: =Q24*S24 -> 0
C25: 4 | D25: 印刷製本費 | F25: × | H25: ＝ | I25: =E25*G25 -> 0 | L25: × | N25: ＝ | O25: =K25*M25 -> 0 | R25: × | T25: ＝ | U25: =Q25*S25 -> 0
C26: 5 | D26: 情報通信費（携帯料金） | F26: × | H26: ＝ | I26: =E26*G26 -> 0 | L26: × | N26: ＝ | O26: =K26*M26 -> 0 | R26: × | T26: ＝ | U26: =Q26*S26 -> 0
C27: 6 | D27: 使用料及び賃借料（施設利用料など） | F27: × | H27: ＝ | I27: =E27*G27 -> 0 | L27: × | N27: ＝ | O27: =K27*M27 -> 0 | R27: × | T27: ＝ | U27: =Q27*S27 -> 0
C28: 7 | D28: 報償費 | F28: × | H28: ＝ | I28: =E28*G28 -> 0 | L28: × | N28: ＝ | O28: =K28*M28 -> 0 | R28: × | T28: ＝ | U28: =Q28*S28 -> 0
C29: 8 | D29: 負担金（研修参加費） | F29: × | H29: ＝ | I29: =E29*G29 -> 0 | L29: × | N29: ＝ | O29: =K29*M29 -> 0 | R29: × | T29: ＝ | U29: =Q29*S29 -> 0
C30: 9 | D30: 旅費 | F30: × | H30: ＝ | I30: =E30*G30 -> 0 | L30: × | N30: ＝ | O30: =K30*M30 -> 0 | R30: × | T30: ＝ | U30: =Q30*S30 -> 0
C31: 10 | F31: × | H31: ＝ | I31: =E31*G31 -> 0 | L31: × | N31: ＝ | O31: =K31*M31 -> 0 | R31: × | T31: ＝ | U31: =Q31*S31 -> 0
C32: 11 | F32: × | H32: ＝ | I32: =E32*G32 -> 0 | L32: × | N32: ＝ | O32: =K32*M32 -> 0 | R32: × | T32: ＝ | U32: =Q32*S32 -> 0
C33: 一般管理費 ※自動計算のため記載不要 | E33: 小計③ | I33: =ROUNDDOWN((I13+I21)*0.1,-3) -> 0 | K33: 小計③ | O33: =ROUNDDOWN((O13+O21)*0.1,-3) -> 0 | Q33: 小計③ | U33: =ROUNDDOWN((U13+U21)*0.1,-3) -> 0
C34: ①＋②×10％（1,000円未満切り捨て）
C35: ①＋②＋③ | E35: 合計 | I35: =SUM(I13,I21,I33) -> 0 | K35: 合計 | O35: =SUM(O13,O21,O33) -> 0 | Q35: 合計 | U35: =SUM(U13,U21,U33) -> 0
C36: 端数調整 | I36: 0 | O36: 0 | U36: 0
C37: 上限額 | E37: 5170000 | K37: 5170000 | Q37: 5170000
C38: 総額計 | E38: =ROUNDUP(I35,-3) -> 0 | K38: =ROUNDUP(O35,-3) -> 0 | Q38: =ROUNDUP(U35,-3) -> 0
C39: ※１ 行の追加・削除は行わないでください。
C40: ※２ 収支計画書は、「包括的支援事業」、「認知症地域支援・ケア向上事業」、「介護予防把握事業」、「地域包括支援センター運営総括表」の４枚を提出してください。
C41: ※３ 「地域包括支援センター運営総括表」には、入力箇所はありません。３つの事業の合計となっているか確認をしてから提出してください。
C42: ※４ 契約上限額と実際の契約金額（市の委託料）とは異なる場合があります。 | P42: ３カ年総額 | Q42: =E38+K38+Q38 -> 0

Sheet 様式10 (介護予防把握事業）
B1: 様式１０
B2: ○地域包括支援センター運営に関する収支計画 （介護予防把握事業） | H2: 【 | J2: 圏域】 | Q2: 【法人名】
B4: 収入科目・市委託料 | I4: 1年目 | O4: 2年目 | U4: 3年目
C5: 包括的支援事業 | J5: 包括的支援事業 | P5: 包括的支援事業
C6: 認知症地域支援・ケア向上事業 | J6: 認知症地域支援・ケア向上事業 | P6: 認知症地域支援・ケア向上事業
C7: 介護予防把握事業 | J7: 一般介護予防事業 | P7: 一般介護予防事業
E8: 合計 | I8: =IF(E38=I7,I7,"エラー") -> 0 | K8: 合計 | O8: =IF(K38=O7,O7,"エラー") -> 0 | Q8: 合計 | U8: =IF(Q38=U7,U7,"エラー") -> 0
C10: 入力箇所は、黄色いセルのみ！
B12: 支出科目 | E12: 単価 | G12: 数量 | H12: 単位 | I12: 1年目 | J12: 備考 | K12: 単価 | M12: 数量 | N12: 単位 | O12: 2年目 | P12: 備考 | Q12: 単価 | S12: 数量 | T12: 単位 | U12: 3年目 | V12: 備考
C13: 人件費 ※設定金額の目安：4,600,000円 | E13: 小計① | I13: =I18+I19+I20 -> 0 | K13: 小計① | O13: =O18+O19+O20 -> 0 | Q13: 小計① | U13: =U18+U19+U20 -> 0
C14: 1 | D14: ３職種（保健師等、社福士等、主任介護支援専門員） | F14: × | H14: ＝ | I14: =E14*G14 -> 0 | L14: × | N14: ＝ | O14: =K14*M14 -> 0 | R14: × | T14: ＝ | U14: =Q14*S14 -> 0
C15: 2 | D15: 介護予防ケアマネジメント担当者 | F15: × | H15: ＝ | I15: =E15*G15 -> 0 | L15: × | N15: ＝ | O15: =K15*M15 -> 0 | R15: × | T15: ＝ | U15: =Q15*S15 -> 0
C16: 3 | D16: 事務員 | F16: × | H16: ＝ | I16: =E16*G16 -> 0 | L16: × | N16: ＝ | O16: =K16*M16 -> 0 | R16: × | T16: ＝ | U16: =Q16*S16 -> 0
C17: 4 | D17: 認知症地域支援推進員 | F17: × | H17: ＝ | I17: =E17*G17 -> 0 | L17: × | N17: ＝ | O17: =K17*M17 -> 0 | R17: × | T17: ＝ | U17: =Q17*S17 -> 0
C18: 5 | D18: 介護予防推進員 給与等 ※給与及び賞与を含む金額を記載すること | F18: × | H18: ＝ | I18: =E18*G18 -> 0 | J18: 給与：4月～12月〇〇〇円、1月～3月〇〇〇円 賞与2回：6月〇〇〇円、12月〇〇〇円 | L18: × | N18: ＝ | O18: =K18*M18 -> 0 | P18: 給与：4月～12月〇〇〇円、1月～3月〇〇〇円 賞与2回：6月〇〇〇円、12月〇〇〇円 | R18: × | T18: ＝ | U18: =Q18*S18 -> 0 | V18: 給与：4月～12月〇〇〇円、1月～3月〇〇〇円 賞与2回：6月〇〇〇円、12月〇〇〇円
C19: 6 | D19: 法定福利費 （健康保険料、厚生年金保険料、介護保険料、雇用保険料、労災保険、こども・子育て拠出金） | F19: × | H19: ＝ | I19: =E19*G19 -> 0 | L19: × | N19: ＝ | O19: =K19*M19 -> 0 | R19: × | T19: ＝ | U19: =Q19*S19 -> 0
C20: 7 | D20: 手当 | F20: × | H20: ＝ | I20: =E20*G20 -> 0 | J20: 通勤手当○○円、職務手当○○円、資格手当○○円 | L20: × | N20: ＝ | O20: =K20*M20 -> 0 | P20: 通勤手当○○円、職務手当○○円、資格手当○○円 | R20: × | T20: ＝ | U20: =Q20*S20 -> 0 | V20: 通勤手当○○円、職務手当○○円、資格手当○○円
C21: 事務費 ※設定金額の目安：100,000円 | E21: 小計② | I21: =SUM(I22:I32) -> 0 | K21: 小計② | O21: =SUM(O22:O32) -> 0 | Q21: 小計② | U21: =SUM(U22:U32) -> 0
C22: 1 | D22: 消耗品費 | F22: × | H22: ＝ | I22: =E22*G22 -> 0 | L22: × | N22: ＝ | O22: =K22*M22 -> 0 | R22: × | T22: ＝ | U22: =Q22*S22 -> 0
C23: 2 | D23: 食糧費 | F23: × | H23: ＝ | I23: =E23*G23 -> 0 | L23: × | N23: ＝ | O23: =K23*M23 -> 0 | R23: × | T23: ＝ | U23: =Q23*S23 -> 0
C24: 3 | D24: 通信運搬費（郵便切手など） | F24: × | H24: ＝ | I24: =E24*G24 -> 0 | L24: × | N24: ＝ | O24: =K24*M24 -> 0 | R24: × | T24: ＝ | U24: =Q24*S24 -> 0
C25: 4 | D25: 印刷製本費 | F25: × | H25: ＝ | I25: =E25*G25 -> 0 | L25: × | N25: ＝ | O25: =K25*M25 -> 0 | R25: × | T25: ＝ | U25: =Q25*S25 -> 0
C26: 5 | D26: 情報通信費（携帯料金） | F26: × | H26: ＝ | I26: =E26*G26 -> 0 | L26: × | N26: ＝ | O26: =K26*M26 -> 0 | R26: × | T26: ＝ | U26: =Q26*S26 -> 0
C27: 6 | D27: 使用料及び賃借料（施設利用料など） | F27: × | H27: ＝ | I27: =E27*G27 -> 0 | L27: × | N27: ＝ | O27: =K27*M27 -> 0 | R27: × | T27: ＝ | U27: =Q27*S27 -> 0
C28: 7 | D28: 報償費 | F28: × | H28: ＝ | I28: =E28*G28 -> 0 | L28: × | N28: ＝ | O28: =K28*M28 -> 0 | R28: × | T28: ＝ | U28: =Q28*S28 -> 0
C29: 8 | D29: 負担金（研修参加費） | F29: × | H29: ＝ | I29: =E29*G29 -> 0 | L29: × | N29: ＝ | O29: =K29*M29 -> 0 | R29: × | T29: ＝ | U29: =Q29*S29 -> 0
C30: 9 | D30: 旅費 | F30: × | H30: ＝ | I30: =E30*G30 -> 0 | L30: × | N30: ＝ | O30: =K30*M30 -> 0 | R30: × | T30: ＝ | U30: =Q30*S30 -> 0
C31: 10 | D31: ○〇〇 | F31: × | H31: ＝ | I31: =E31*G31 -> 0 | L31: × | N31: ＝ | O31: =K31*M31 -> 0 | R31: × | T31: ＝ | U31: =Q31*S31 -> 0
C32: 11 | F32: × | H32: ＝ | I32: =E32*G32 -> 0 | L32: × | N32: ＝ | O32: =K32*M32 -> 0 | R32: × | T32: ＝ | U32: =Q32*S32 -> 0
C33: 一般管理費 ※自動計算のため記載不要 | E33: 小計③ | I33: =ROUNDDOWN((I13+I21)*0.1,-3) -> 0 | K33: 小計③ | O33: =ROUNDDOWN((O13+O21)*0.1,-3) -> 0 | Q33: 小計③ | U33: =ROUNDDOWN((U13+U21)*0.1,-3) -> 0
C34: ①＋②×10％（1,000円未満切り捨て）
C35: ①＋②＋③ | E35: 合計 | I35: =SUM(I13,I21,I33) -> 0 | K35: 合計 | O35: =SUM(O13,O21,O33) -> 0 | Q35: 合計 | U35: =SUM(U13,U21,U33) -> 0
C36: 端数調整 | I36: 0 | O36: 0 | U36: 300
C37: 上限額 | E37: 5170000 | K37: 5170000 | Q37: 5170000
C38: 総額計 | E38: =ROUNDUP(I35,-3) -> 0 | K38: =ROUNDUP(O35,-3) -> 0 | Q38: =ROUNDUP(U35,-3) -> 0
C39: ※１ 行の追加・削除は行わないでください。
C40: ※２ 収支計画書は、「包括的支援事業」、「認知症地域支援・ケア向上事業」、「介護予防把握事業」、「地域包括支援センター運営総括表」の４枚を提出してください。
C41: ※３ 「地域包括支援センター運営総括表」には、入力箇所はありません。３つの事業の合計となっているか確認をしてから提出してください。
C42: ※４ 契約上限額と実際の契約金額（市の委託料）とは異なる場合があります。 | P42: ３カ年総額 | Q42: =E38+K38+Q38 -> 0
